BEGIN:VCALENDAR
VERSION:2.0
PRODID:-//FreiSeinFreiburg - ECPv6.15.20//NONSGML v1.0//EN
CALSCALE:GREGORIAN
METHOD:PUBLISH
X-WR-CALNAME:FreiSeinFreiburg
X-ORIGINAL-URL:https://freiseinfreiburg.de
X-WR-CALDESC:Veranstaltungen für FreiSeinFreiburg
REFRESH-INTERVAL;VALUE=DURATION:PT1H
X-Robots-Tag:noindex
X-PUBLISHED-TTL:PT1H
BEGIN:VTIMEZONE
TZID:Europe/Berlin
BEGIN:DAYLIGHT
TZOFFSETFROM:+0100
TZOFFSETTO:+0200
TZNAME:CEST
DTSTART:20240331T010000
END:DAYLIGHT
BEGIN:STANDARD
TZOFFSETFROM:+0200
TZOFFSETTO:+0100
TZNAME:CET
DTSTART:20241027T010000
END:STANDARD
BEGIN:DAYLIGHT
TZOFFSETFROM:+0100
TZOFFSETTO:+0200
TZNAME:CEST
DTSTART:20250330T010000
END:DAYLIGHT
BEGIN:STANDARD
TZOFFSETFROM:+0200
TZOFFSETTO:+0100
TZNAME:CET
DTSTART:20251026T010000
END:STANDARD
BEGIN:DAYLIGHT
TZOFFSETFROM:+0100
TZOFFSETTO:+0200
TZNAME:CEST
DTSTART:20260329T010000
END:DAYLIGHT
BEGIN:STANDARD
TZOFFSETFROM:+0200
TZOFFSETTO:+0100
TZNAME:CET
DTSTART:20261025T010000
END:STANDARD
END:VTIMEZONE
BEGIN:VEVENT
DTSTART;TZID=Europe/Berlin:20251107T180000
DTEND;TZID=Europe/Berlin:20251107T200000
DTSTAMP:20260425T152948
CREATED:20251010T090221Z
LAST-MODIFIED:20251010T090221Z
UID:6158-1762538400-1762545600@freiseinfreiburg.de
SUMMARY:Friede und Sicherheit - Warum wir eine bessere Politik brauchen
DESCRIPTION:Herzliche Einladung zu einer weiteren „Aufgeklärt“-Veranstaltung am Freitag\, 07.11.2025\, 18 Uhr\, in Freiburg im Bürgerhaus Zähringen \nDas Thema wird sein:\nFriede und Sicherheit – Warum wir eine bessere Politik brauchen \n>> Vortrag und Diskussion mit dem Millitär-Insider\nFlorian D. Pfaff (Major a.D. der Bundeswehr\, Träger der Carl-von-Ossietzky-Medaille \nBitte sagt diese Veranstaltung weiter und kommt zahlreich. Es wird ein vielversprechender Abend!
URL:https://freiseinfreiburg.de/termin/friede-und-sicherheit-warum-wir-eine-bessere-politik-brauchen/
LOCATION:BaWü
END:VEVENT
BEGIN:VEVENT
DTSTART;TZID=Europe/Berlin:20251108T140000
DTEND;TZID=Europe/Berlin:20251108T160000
DTSTAMP:20260425T152948
CREATED:20251103T103531Z
LAST-MODIFIED:20251103T103531Z
UID:6167-1762610400-1762617600@freiseinfreiburg.de
SUMMARY:Friedenslauf durch die Freiburger Innenstadt am 8. November
DESCRIPTION:♦️WIR GEMEINSAM für ein besseres Leben in Deutschland‼️ \n\n\n\nFreiSeinFreiburg\nFreieFriedensaktivistenFreiburg\nStauf-Freiburg\n\n\n\nBürger für Frieden\, Freiheit\, Menschlichkeit und Vernunft.
URL:https://freiseinfreiburg.de/termin/friedenslauf-durch-die-freiburger-innenstadt-am-8-november/
LOCATION:Konrad Adenauer Platz\, Konrad Adenauer Platz 1\, Freiburg\, 79098
END:VEVENT
BEGIN:VEVENT
DTSTART;TZID=Europe/Berlin:20251115T140000
DTEND;TZID=Europe/Berlin:20251115T160000
DTSTAMP:20260425T152948
CREATED:20251103T111723Z
LAST-MODIFIED:20251103T111723Z
UID:6170-1763215200-1763222400@freiseinfreiburg.de
SUMMARY:Zusammen gegen Genozid - Großdemo am 15. November in Freiburg
DESCRIPTION:
URL:https://freiseinfreiburg.de/termin/zusammen-gegen-genozid-grossdemo-am-15-november-in-freiburg/
LOCATION:Platz der Alten Synagoge\, Freiburg\, Baden-Württemberg\, 79098\, Deutschland
END:VEVENT
BEGIN:VEVENT
DTSTART;TZID=Europe/Berlin:20251129T140000
DTEND;TZID=Europe/Berlin:20251129T160000
DTSTAMP:20260425T152948
CREATED:20251124T094833Z
LAST-MODIFIED:20251124T094833Z
UID:6179-1764424800-1764432000@freiseinfreiburg.de
SUMMARY:Friendenslauf in Freiburg am 29. November 2025
DESCRIPTION:Liebe Mitmenschen \, \n❤️-liche Einladung zum FRIEDENSLAUF durch die Innenstadt in Freiburg am Samstag\, den 29. NOVEMBER 2025 um 14 Uhr. \n✔️ FRIEDEN statt Friedrich ‼️\n✔️ Für freie Meinungsäußerung‼️\n✔️ Für Bargelderhalt ‼️\n✔️ Corona-Aufarbeitung‼️\n✔️ Raus aus der WHO‼️ \n♦️ Start: Konrad-Adenauer Platz♦️\nAm Konzerthaus gegenüber vom Hbf. Freiburg\n♦️♦️♦️ 14.00 – 16.00 Uhr ♦️♦️♦️ \nKommt zahlreich und bringt gute Laune\, Plakate und Freunde mit. \n🕊‼️Gemeinschaft stärken ‼️🕊 \n„WIR GEMEINSAM“:\n–FreiseinFreiburg (https://t.me/FreiSeinFreiburg)\n– FreieFriedensaktivistenFreiburg (http://t.me/FreieFriedensaktivistenFreiburg)\n– Stauf-Freiburg (http://t.me/stauffreiburg)\n– MahnwacheFreiburg (https://t.me/ehcawnham)\n– Freiburger-Autokorso (https://t.me/Autokorsofreiburg) \nBürger für Frieden\, Freiheit\, Menschlichkeit und Vernunft.\n🔹🔹🔹🔹🔹🔹🔹🔹🔹🔹🔹🔹🔹\nAbboniere den Newsletter von FSF:\nFreiSeinFreiburg.de
URL:https://freiseinfreiburg.de/termin/friendenslauf-in-freiburg-am-29-november-2025/
LOCATION:Konrad Adenauer Platz\, Konrad Adenauer Platz 1\, Freiburg\, 79098
END:VEVENT
BEGIN:VEVENT
DTSTART;TZID=Europe/Berlin:20251129T160000
DTEND;TZID=Europe/Berlin:20251129T170000
DTSTAMP:20260425T152948
CREATED:20251103T112716Z
LAST-MODIFIED:20251103T112716Z
UID:6172-1764432000-1764435600@freiseinfreiburg.de
SUMMARY:Kriegspropaganda & digitale Manipulation
DESCRIPTION:Wie kognitive Kriegsführung unseren Verstand ins Visier nimmt. \nReferent Dr. Jonas Tögel\, Wissenschaftler zum Thema Propaganda und Manipulationen
URL:https://freiseinfreiburg.de/termin/kriegspropaganda-digitale-manipulation/
LOCATION:Clara-Schumann-Haus\, Clara Schumann Str. 3a\, Bad Krozingen\, Baden-Wuerttemberg\, 79189\, Germany
END:VEVENT
END:VCALENDAR