BEGIN:VCALENDAR
VERSION:2.0
PRODID:-//FreiSeinFreiburg - ECPv6.15.20//NONSGML v1.0//EN
CALSCALE:GREGORIAN
METHOD:PUBLISH
X-ORIGINAL-URL:https://freiseinfreiburg.de
X-WR-CALDESC:Veranstaltungen für FreiSeinFreiburg
REFRESH-INTERVAL;VALUE=DURATION:PT1H
X-Robots-Tag:noindex
X-PUBLISHED-TTL:PT1H
BEGIN:VTIMEZONE
TZID:Europe/Berlin
BEGIN:DAYLIGHT
TZOFFSETFROM:+0100
TZOFFSETTO:+0200
TZNAME:CEST
DTSTART:20240331T010000
END:DAYLIGHT
BEGIN:STANDARD
TZOFFSETFROM:+0200
TZOFFSETTO:+0100
TZNAME:CET
DTSTART:20241027T010000
END:STANDARD
BEGIN:DAYLIGHT
TZOFFSETFROM:+0100
TZOFFSETTO:+0200
TZNAME:CEST
DTSTART:20250330T010000
END:DAYLIGHT
BEGIN:STANDARD
TZOFFSETFROM:+0200
TZOFFSETTO:+0100
TZNAME:CET
DTSTART:20251026T010000
END:STANDARD
BEGIN:DAYLIGHT
TZOFFSETFROM:+0100
TZOFFSETTO:+0200
TZNAME:CEST
DTSTART:20260329T010000
END:DAYLIGHT
BEGIN:STANDARD
TZOFFSETFROM:+0200
TZOFFSETTO:+0100
TZNAME:CET
DTSTART:20261025T010000
END:STANDARD
END:VTIMEZONE
BEGIN:VEVENT
DTSTART;TZID=Europe/Berlin:20250801T190000
DTEND;TZID=Europe/Berlin:20250801T220000
DTSTAMP:20260425T193050
CREATED:20250706T144539Z
LAST-MODIFIED:20250715T103230Z
UID:6083-1754074800-1754085600@freiseinfreiburg.de
SUMMARY:Dokumentarfilm über die Freiburger Bombennacht „Sonst war es still“
DESCRIPTION:
URL:https://freiseinfreiburg.de/termin/dokumentarfilm-ueber-die-freiburger-bombennacht-sonst-war-es-still/
LOCATION:Pfarrheim\, St. Peter\, Schulweg 3\, St. Peter\, Baden-Württemberg\, 79271\, Germany
CATEGORIES:Film
END:VEVENT
BEGIN:VEVENT
DTSTART;TZID=Europe/Berlin:20250802T140000
DTEND;TZID=Europe/Berlin:20250802T160000
DTSTAMP:20260425T193050
CREATED:20250728T100931Z
LAST-MODIFIED:20250728T113244Z
UID:6105-1754143200-1754150400@freiseinfreiburg.de
SUMMARY:Friedenslauf durch die Freiburger Innenstadt am 2. August
DESCRIPTION:♦️WIR GEMEINSAM für ein besseres Leben in Deutschland‼️ \n\nFreiSeinFreiburg\nFreieFriedensaktivistenFreiburg\nStauf-Freiburg\nMahnwacheFreiburg\nFreiburger-Autokorso
URL:https://freiseinfreiburg.de/termin/friedenslauf-durch-die-freiburger-innenstadt-am-2-august/
LOCATION:Konrad Adenauer Platz\, Konrad Adenauer Platz 1\, Freiburg\, 79098
END:VEVENT
BEGIN:VEVENT
DTSTART;TZID=Europe/Berlin:20250810T110000
DTEND;TZID=Europe/Berlin:20250810T173000
DTSTAMP:20260425T193050
CREATED:20250805T201223Z
LAST-MODIFIED:20250805T201552Z
UID:6111-1754823600-1754847000@freiseinfreiburg.de
SUMMARY:Seminar Das Geld der Zukunft
DESCRIPTION:Wandel Gestalten – Das Geld der Zukunft \nEine sichere und lebenswerte Welt durch dezentrale Wertschöpfung. \nDie Einladung richtet sich an Landwirte\, Bauern\, Gemüsehändler\, Versorger\, Handwerker\, Mediziner\, andere Dienstleister und Konsumenten. \nSchicke Deine Anmeldung an sabinekropf@hotmail.com oder auf Telegram an @sabinekr_diebasis.
URL:https://freiseinfreiburg.de/termin/seminar-das-geld-der-zukunft/
LOCATION:Kultur- und Vereinshaus\, Vörstetter Strasse 2\, Gundelfingen\, 79194\, Germany
END:VEVENT
BEGIN:VEVENT
DTSTART;TZID=Europe/Berlin:20250816T140000
DTEND;TZID=Europe/Berlin:20250816T160000
DTSTAMP:20260425T193050
CREATED:20250811T135750Z
LAST-MODIFIED:20250811T135750Z
UID:6122-1755352800-1755360000@freiseinfreiburg.de
SUMMARY:Schilderdemo in Freiburg am 16. August
DESCRIPTION:Liebe Mitmenschen\,\n❤️-liche Einladung zum FRIEDENSLAUF durch die Innenstadt in Freiburg am Samstag\, den 16. August 2025 um 14 Uhr. \n✔️ FRIEDEN statt Friedrich ‼️\n✔️ Für freie Meinungsäußerung‼️\n✔️ Für Bargelderhalt ‼️\n✔️ Corona-Aufarbeitung‼️\n✔️ Raus aus der WHO \n♦️ Start: Konrad-Adenauer Platz♦️\nAm Konzerthaus gegenüber vom Hbf. Freiburg\n♦️♦️♦️ 14.00 – 16.00 Uhr ♦️♦️♦️ \nKommt zahlreich und bringt gute Laune\, Plakate und Freunde mit. \n🕊‼️Gemeinschaft stärken ‼️🕊 \n„WIR GEMEINSAM“ sind: \n– FreiseinFreiburg\n– FreieFriedensaktivistenFreiburg\n– Stauf-Freiburg\n– MahnwacheFreiburg\n– Freiburger-Autokorso \nBürger für Frieden\, Freiheit\, Menschlichkeit und Vernunft.
URL:https://freiseinfreiburg.de/termin/schilderdemo-in-freiburg-am-16-august/
LOCATION:Konrad Adenauer Platz\, Konrad Adenauer Platz 1\, Freiburg\, 79098
END:VEVENT
END:VCALENDAR