BEGIN:VCALENDAR
VERSION:2.0
PRODID:-//FreiSeinFreiburg - ECPv6.15.20//NONSGML v1.0//EN
CALSCALE:GREGORIAN
METHOD:PUBLISH
X-WR-CALNAME:FreiSeinFreiburg
X-ORIGINAL-URL:https://freiseinfreiburg.de
X-WR-CALDESC:Veranstaltungen für FreiSeinFreiburg
REFRESH-INTERVAL;VALUE=DURATION:PT1H
X-Robots-Tag:noindex
X-PUBLISHED-TTL:PT1H
BEGIN:VTIMEZONE
TZID:Europe/Berlin
BEGIN:DAYLIGHT
TZOFFSETFROM:+0100
TZOFFSETTO:+0200
TZNAME:CEST
DTSTART:20250330T010000
END:DAYLIGHT
BEGIN:STANDARD
TZOFFSETFROM:+0200
TZOFFSETTO:+0100
TZNAME:CET
DTSTART:20251026T010000
END:STANDARD
BEGIN:DAYLIGHT
TZOFFSETFROM:+0100
TZOFFSETTO:+0200
TZNAME:CEST
DTSTART:20260329T010000
END:DAYLIGHT
BEGIN:STANDARD
TZOFFSETFROM:+0200
TZOFFSETTO:+0100
TZNAME:CET
DTSTART:20261025T010000
END:STANDARD
BEGIN:DAYLIGHT
TZOFFSETFROM:+0100
TZOFFSETTO:+0200
TZNAME:CEST
DTSTART:20270328T010000
END:DAYLIGHT
BEGIN:STANDARD
TZOFFSETFROM:+0200
TZOFFSETTO:+0100
TZNAME:CET
DTSTART:20271031T010000
END:STANDARD
END:VTIMEZONE
BEGIN:VEVENT
DTSTART;TZID=Europe/Berlin:20260425T140000
DTEND;TZID=Europe/Berlin:20260425T170000
DTSTAMP:20260421T073049
CREATED:20260417T061002Z
LAST-MODIFIED:20260417T062304Z
UID:6247-1777125600-1777136400@freiseinfreiburg.de
SUMMARY:Baden Württemberg steht auf – Zeit zu handeln!
DESCRIPTION:NEUSTART JETZT – Baden Württemberg steht auf \nGemeinsam für Frieden\, Meinungsfreiheit\, Bargelderhalt\, Freiheit
URL:https://freiseinfreiburg.de/termin/baden-wuerttemberg-steht-auf-zeit-zu-handeln-2/
LOCATION:Pforzheim – Am Waisenhausplatz\, Am Waisenhausplatz\, Pforzheim\, BaWü\, 75172\, Germany
END:VEVENT
BEGIN:VEVENT
DTSTART;TZID=Europe/Berlin:20260425T183000
DTEND;TZID=Europe/Berlin:20260425T200000
DTSTAMP:20260421T073049
CREATED:20260408T113637Z
LAST-MODIFIED:20260408T114138Z
UID:6240-1777141800-1777147200@freiseinfreiburg.de
SUMMARY:Doesjka van der Linden – Zwischen Himmel und Erde
DESCRIPTION:Zwischen Himmel & Erde\nWir Menschen befinden uns seelisch immer wieder ‚zwischen Himmel und Erde‘. In diesem Bereich verbinden uns unsere Erfahrungen\, wie Glück\, Dankbarkeit\, Ehrfurcht\, Frieden – bis hin zu Gefühlen von Schmerz\, Abschied\, Verlust und Trauer. \nIn ihrem Soloprogramm „Zwischen Himmel & Erde“ verbindet die Konzertharfenistin Doesjka van der Linden ihre eigenen Erfahrungen aus der goldenen Landschaft des Abschiednehmens mit Kunstwerken großer Komponisten wie J.S. Bach\, J.P. Sweelinck\, Christian Gernot Nagel und Vardaped Komitas.
URL:https://freiseinfreiburg.de/termin/doesjka-van-der-linden-zwischen-himmel-und-erde/
LOCATION:Humboldsaal im Freiburger Hof\, Humboldstraße 2\, Freiburg\, 79098\, Germany
ORGANIZER;CN="Avigan Events":MAILTO:mail@avigan.events
END:VEVENT
END:VCALENDAR